BEGIN:VCALENDAR
VERSION:2.0
PRODID:-//Ateliers de la SFP - ECPv6.15.20//NONSGML v1.0//EN
CALSCALE:GREGORIAN
METHOD:PUBLISH
X-ORIGINAL-URL:https://ateliers.sofrphilo.fr
X-WR-CALDESC:Évènements pour Ateliers de la SFP
REFRESH-INTERVAL;VALUE=DURATION:PT1H
X-Robots-Tag:noindex
X-PUBLISHED-TTL:PT1H
BEGIN:VTIMEZONE
TZID:Europe/Paris
BEGIN:DAYLIGHT
TZOFFSETFROM:+0100
TZOFFSETTO:+0200
TZNAME:CEST
DTSTART:20220327T010000
END:DAYLIGHT
BEGIN:STANDARD
TZOFFSETFROM:+0200
TZOFFSETTO:+0100
TZNAME:CET
DTSTART:20221030T010000
END:STANDARD
BEGIN:DAYLIGHT
TZOFFSETFROM:+0100
TZOFFSETTO:+0200
TZNAME:CEST
DTSTART:20230326T010000
END:DAYLIGHT
BEGIN:STANDARD
TZOFFSETFROM:+0200
TZOFFSETTO:+0100
TZNAME:CET
DTSTART:20231029T010000
END:STANDARD
BEGIN:DAYLIGHT
TZOFFSETFROM:+0100
TZOFFSETTO:+0200
TZNAME:CEST
DTSTART:20240331T010000
END:DAYLIGHT
BEGIN:STANDARD
TZOFFSETFROM:+0200
TZOFFSETTO:+0100
TZNAME:CET
DTSTART:20241027T010000
END:STANDARD
END:VTIMEZONE
BEGIN:VEVENT
DTSTART;TZID=Europe/Paris:20231118T103000
DTEND;TZID=Europe/Paris:20231118T120000
DTSTAMP:20260425T123749
CREATED:20231102T171422Z
LAST-MODIFIED:20231103T073834Z
UID:3655-1700303400-1700308800@ateliers.sofrphilo.fr
SUMMARY:Atelier Littérature et philosophie\, 1re séance 2023-2024
DESCRIPTION:Atelier « Littérature et philosophie »\, 2023-2024\,\nanimé par Jacques Doly et Jean-Michel Muglioni \n*** \nAlain Champseix\, Lycée Maurice Genevoix\, Ingré (Loiret) \nLittérature\, philosophie\, vie et vérité \nSamedi 18 novembre\, 10 h 30 – 12 h\, ENS 45 rue d’Ulm 75005 Paris\, salle Pasteur\, Pavillon Pasteur. \nIl n’y a ni littérature ni philosophie sans rapport à la vérité\, sauf à penser que la première n’est jamais qu’une distraction. Mais\, si tel était le cas\, elle n’instruirait pas. Le penser\, cependant\, est une chose\, le comprendre une autre car ce qui est ainsi en jeu avec une telle idée n’est pas seulement le rapport entre ces deux activités humaines mais la nature même de la vérité. Qu’est-elle si elle peut être abordée soit par le concept soit par l’imagination ? Il est possible d’estimer que le paragraphe 51 de la Critique de la faculté de juger (du début jusqu’aux premières lignes du point n° 2) de Kant peut nous aider à y voir plus clair sur ce point tant il montre que l’imagination peut contribuer à enrichir l’entendement sans même chercher à le vouloir. Seulement\, cette thèse a sa contrepartie : si l’imagination n’est pas étrangère au concept\, c’est que ce dernier\, en retour\, ne saurait se réduire à la représentation que l’on s’en fait souvent : le résultat d’un goût quelque peu immodéré pour l’abstraction et\, finalement\, une fuite devant le réel. Il y aurait d’un côté la littérature vivante et\, de l’autre\, la philosophie altière et éthérée ; la vérité\, finalement\, étant plutôt du côté de la première. A l’appui\, on cite souvent certains écrivains éminents : « Toute théorie est grise\, mais vert florissant est l’arbre de la vie. » dans le Faust de Goethe ou « Il y a plus de choses au ciel et sur la terre\, Horatio\, que dans toute votre philosophie » dans l’Hamlet de Shakespeare. En réalité\, il est possible de penser autrement comme peuvent le montrer des lectures plus attentives du philosophe allemand ou de ce poète français que fut Mallarmé [Jules Huret\, Enquête sur l’évolution des courants littéraires\, in chapitre « Symbolistes et décadents ». Entretien avec Stéphane Mallarmé] : par le langage\, le concept\, qu’il soit abordé par la philosophie ou par la littérature\, n’est jamais coupé de la vie. Encore faudra-t-il tâcher de préciser le sens de cette dernière notion. \nLes documents de la séance sont disponibles ici. \nPour assister à la séance ou recevoir le lien de visioconférence\, il faut obligatoirement utiliser ce formulaire de contact.
URL:https://ateliers.sofrphilo.fr/evenement/atelier-litterature-et-philosophie-1re-seance-2023-2024/
LOCATION:ENS\, pavillon Pasteur\, salle Pasteur
CATEGORIES:Séminaire
END:VEVENT
END:VCALENDAR