BEGIN:VCALENDAR
VERSION:2.0
PRODID:-//Ateliers de la SFP - ECPv6.15.20//NONSGML v1.0//EN
CALSCALE:GREGORIAN
METHOD:PUBLISH
X-ORIGINAL-URL:https://ateliers.sofrphilo.fr
X-WR-CALDESC:Évènements pour Ateliers de la SFP
REFRESH-INTERVAL;VALUE=DURATION:PT1H
X-Robots-Tag:noindex
X-PUBLISHED-TTL:PT1H
BEGIN:VTIMEZONE
TZID:Europe/Paris
BEGIN:DAYLIGHT
TZOFFSETFROM:+0100
TZOFFSETTO:+0200
TZNAME:CEST
DTSTART:20230326T010000
END:DAYLIGHT
BEGIN:STANDARD
TZOFFSETFROM:+0200
TZOFFSETTO:+0100
TZNAME:CET
DTSTART:20231029T010000
END:STANDARD
BEGIN:DAYLIGHT
TZOFFSETFROM:+0100
TZOFFSETTO:+0200
TZNAME:CEST
DTSTART:20240331T010000
END:DAYLIGHT
BEGIN:STANDARD
TZOFFSETFROM:+0200
TZOFFSETTO:+0100
TZNAME:CET
DTSTART:20241027T010000
END:STANDARD
BEGIN:DAYLIGHT
TZOFFSETFROM:+0100
TZOFFSETTO:+0200
TZNAME:CEST
DTSTART:20250330T010000
END:DAYLIGHT
BEGIN:STANDARD
TZOFFSETFROM:+0200
TZOFFSETTO:+0100
TZNAME:CET
DTSTART:20251026T010000
END:STANDARD
END:VTIMEZONE
BEGIN:VEVENT
DTSTART;TZID=Europe/Paris:20240525T100000
DTEND;TZID=Europe/Paris:20240525T123000
DTSTAMP:20260423T111159
CREATED:20240513T055256Z
LAST-MODIFIED:20240513T055256Z
UID:3820-1716631200-1716640200@ateliers.sofrphilo.fr
SUMMARY:Eric Bories\, « Penser l’aliénation avec Axel Honneth »
DESCRIPTION:Eric Bories (professeur en Lettres supérieures au Lycée Pierre de Fermat et en Première supérieure au Lycée Saint Sernin)\, propose une intervention sur le sujet suivant : \n« Penser l’aliénation avec Axel Honneth ». \nÉric Bories enseigne la philosophie en Lettres supérieures au lycée Pierre de Fermat et en Première Supérieure au lycée saint Sernin (Toulouse). \nIl a soutenu une thèse de doctorat à Paris 1\,sous la direction de Jean-François Kervégan\, intitulée «État\, culture\, et liberté chez Hegel.» \nIl a publié un livre sur Axel Honneth intitulé Le sens social de la liberté. Axel Honneth\, penseur de notre présent\, Paris\, Classique Garnier\,\, 2022.
URL:https://ateliers.sofrphilo.fr/evenement/eric-bories-penser-lalienation-avec-axel-honneth/
LOCATION:ENS salle Weil\, 45 rue d'Ulm\, Paris\, 75005
END:VEVENT
END:VCALENDAR